BEGIN:VCALENDAR
VERSION:2.0
PRODID:-//Hard Light Center of Awakening - ECPv6.15.20//NONSGML v1.0//EN
CALSCALE:GREGORIAN
METHOD:PUBLISH
X-WR-CALNAME:Hard Light Center of Awakening
X-ORIGINAL-URL:https://staging.hardlight.org
X-WR-CALDESC:Events for Hard Light Center of Awakening
REFRESH-INTERVAL;VALUE=DURATION:PT1H
X-Robots-Tag:noindex
X-PUBLISHED-TTL:PT1H
BEGIN:VTIMEZONE
TZID:America/Los_Angeles
BEGIN:DAYLIGHT
TZOFFSETFROM:-0800
TZOFFSETTO:-0700
TZNAME:PDT
DTSTART:20350311T100000
END:DAYLIGHT
BEGIN:STANDARD
TZOFFSETFROM:-0700
TZOFFSETTO:-0800
TZNAME:PST
DTSTART:20351104T090000
END:STANDARD
BEGIN:DAYLIGHT
TZOFFSETFROM:-0800
TZOFFSETTO:-0700
TZNAME:PDT
DTSTART:20360309T100000
END:DAYLIGHT
BEGIN:STANDARD
TZOFFSETFROM:-0700
TZOFFSETTO:-0800
TZNAME:PST
DTSTART:20361102T090000
END:STANDARD
BEGIN:DAYLIGHT
TZOFFSETFROM:-0800
TZOFFSETTO:-0700
TZNAME:PDT
DTSTART:20370308T100000
END:DAYLIGHT
BEGIN:STANDARD
TZOFFSETFROM:-0700
TZOFFSETTO:-0800
TZNAME:PST
DTSTART:20371101T090000
END:STANDARD
END:VTIMEZONE
BEGIN:VEVENT
DTSTART;TZID=America/Los_Angeles:20360127T193000
DTEND;TZID=America/Los_Angeles:20360127T210000
DTSTAMP:20260425T185429
CREATED:20260127T193312Z
LAST-MODIFIED:20260127T193721Z
UID:10000321-2085075000-2085080400@staging.hardlight.org
SUMMARY:01/27/2036 TEMPLATE – Weekly Meeting Master
DESCRIPTION:Join the Hard Light Center of Awakening for our weekly meditation meeting and dharma teaching. \n\n\n\nJoin via VIMEO \n\n\n	\n		\n		\n			\n		\n		\n			Weekly Meditation Program\n		\n		\n		\n		\n		The weekly program is held every Thursday from 7:30 – 9:00 PM (PST). The program includes Master Mark Griffin’s archived Dharma teachings and silent meditation practice. All are welcome to join!\n  \nFirst class free\nIn-person or online drop-in: $25 \n\n\n\n\n		\n		\n		  \n		\n		\n		\n		Processing ... Join UsStripe Payments requires Javascript to be supported by the browser in order to operate.
URL:https://staging.hardlight.org/event/template-weekly-meeting-master/
CATEGORIES:Weekly Meeting
END:VEVENT
END:VCALENDAR